BEGIN:VCALENDAR
VERSION:2.0
PRODID:-//hacksw/handcal//NONSGML v1.0//EN
BEGIN:VEVENT
SUMMARY:UPMQ 2
UID:d8ac669f-9799-44ad-8685-6498a227174e
DTSTART:20260409T220000Z
DTEND:20260410T220000Z
LOCATION:Localisation   
CATEGORIES:Sportif
STATUS:
URL;VALUE=URI:https://medreacquedillac-tt.sportsregions.fr/evenements/2026/04/10/upmq-2-2440433
END:VEVENT
END:VCALENDAR
